BEGIN:VCALENDAR
VERSION:2.0
CALSCALE:GREGORIAN
PRODID:-//Diputació de Barcelona//DibaCMS//EN
BEGIN:VEVENT
UID:6012
DTSTAMP:20260421T191806
DTSTART:20130419T000000
DTEND:20140419T000000
SUMMARY:Les vuitenes Jornades de música i cant coral de la Llagosta començaran diumenge
LOCATION:
METHOD:PUBLISH
X-WR-CALNAME:llagosta@llagosta.cat
X-WR-TIMEZONE:Europe/Madrid
DESCRIPTION:Diumenge, comencen les vuitenes Jornades de música i cant coral que organitza la Coral Miranda de la Llagosta. Com cada any, se celebraran dos concerts amb la participació de formacions d'arreu de Catalunya.
URI:https://www.llagosta.cat/actualitat/noticies/les-vuitenes-jornades-de-musica-i-cant-coral-de-la-llagosta-comencaran-diumenge.html
CLASS:PUBLIC
END:VEVENT
END:VCALENDAR
