BEGIN:VCALENDAR
VERSION:2.0
CALSCALE:GREGORIAN
PRODID:-//Diputació de Barcelona//DibaCMS//EN
BEGIN:VEVENT
UID:6011
DTSTAMP:20260422T111037
DTSTART:20130419T000000
DTEND:20140419T000000
SUMMARY:Un veí de la Llagosta, detingut per intentar atracar un bar del carrer de l'Estació
LOCATION:
METHOD:PUBLISH
X-WR-CALNAME:llagosta@llagosta.cat
X-WR-TIMEZONE:Europe/Madrid
DESCRIPTION:La Policia Local va detenir ahir un veí de la Llagosta després que intentés atracar un bar del carrer de l'Estació amenaçant els cambrers amb un tovalloler metàl·lic. Els fets van ocórrer cap a les 22 hores, quan David S. A., de 36 anys, va irrompre al local, que en aquell moment era buit de clients, i, després d'accedir a la part de darrere de la barra, va agafar un tovalloler metàl·lic i va amenaçar els cambrers d'agredir-los si no li donaven els diners que hi havia a la caixa.
URI:https://www.llagosta.cat/actualitat/noticies/un-vei-de-la-llagosta-detingut-per-intentar-atracar-un-bar-del-carrer-de-lestacio.html
CLASS:PUBLIC
END:VEVENT
END:VCALENDAR
