BEGIN:VCALENDAR
VERSION:2.0
CALSCALE:GREGORIAN
PRODID:-//Diputació de Barcelona//DibaCMS//EN
BEGIN:VEVENT
UID:6010
DTSTAMP:20260422T014316
DTSTART:20130419T000000
DTEND:20140419T000000
SUMMARY:Diumenge, se celebrarà una nova edició de la Ballada de Gitanes de la Llagosta 
LOCATION:
METHOD:PUBLISH
X-WR-CALNAME:llagosta@llagosta.cat
X-WR-TIMEZONE:Europe/Madrid
DESCRIPTION:El Grup de Ball de Gitanes de la Llagosta organitzarà diumenge la 37a edició de la Ballada de Gitanes de la nostra localitat. L'acte tindrà lloc a la rambla de l'avinguda de l'Onze de Setembre a partir de dos quarts de dotze del matí. 
URI:https://www.llagosta.cat/actualitat/noticies/diumenge-se-celebrara-una-nova-edicio-de-la-ballada-de-gitanes-de-la-llagosta-.html
CLASS:PUBLIC
END:VEVENT
END:VCALENDAR
