BEGIN:VCALENDAR
VERSION:2.0
CALSCALE:GREGORIAN
PRODID:-//Diputació de Barcelona//DibaCMS//EN
BEGIN:VEVENT
UID:6009
DTSTAMP:20260422T223654
DTSTART:20130419T000000
DTEND:20130419T000000
SUMMARY:El conjunt sènior de l'Esportiu Bàsquet Club perd dos nous partits en una setmana
LOCATION:
METHOD:PUBLISH
X-WR-CALNAME:llagosta@llagosta.cat
X-WR-TIMEZONE:Europe/Madrid
DESCRIPTION:El sènior de l'Esportiu Bàsquet Club de la Llagosta ha perdut en els darrers dies dos partits. El cap de setmana passat, va caure per 84 a 41 a la pista del Sant Andreu de Natzaret B i dimecres d'aquesta setmana, en partit avançat corresponent a la propera jornada, va perdre per 45 a 73 contra el Santa Perpètua.
URI:https://www.llagosta.cat/actualitat/noticies/el-conjunt-senior-de-lesportiu-basquet-club-perd-dos-nous-partits-en-una-setmana.html
CLASS:PUBLIC
END:VEVENT
END:VCALENDAR
