BEGIN:VCALENDAR
VERSION:2.0
CALSCALE:GREGORIAN
PRODID:-//Diputació de Barcelona//DibaCMS//EN
BEGIN:VEVENT
UID:6008
DTSTAMP:20260422T234349
DTSTART:20130419T000000
DTEND:20140419T000000
SUMMARY:L'Agrupació Sardanista organitzarà diumenge el 23è Aplec de la Sardana al Parc Popular
LOCATION:
METHOD:PUBLISH
X-WR-CALNAME:llagosta@llagosta.cat
X-WR-TIMEZONE:Europe/Madrid
DESCRIPTION:El Parc Popular acollirà diumenge l'edició número 23 de l'Aplec de la Llagosta, organitzat per l'Agrupació Sardanista. Durant l'acte, que s'iniciarà a les quatre de la tarda, es farà un homenatge al recentment desaparegut Mateu Bartalot, una persona molt vinculada a l'Agrupació Sardanista.
URI:https://www.llagosta.cat/actualitat/noticies/lagrupacio-sardanista-organitzara-diumenge-el-23e-aplec-de-la-sardana-al-parc-popular.html
CLASS:PUBLIC
END:VEVENT
END:VCALENDAR
