BEGIN:VCALENDAR
VERSION:2.0
CALSCALE:GREGORIAN
PRODID:-//Diputació de Barcelona//DibaCMS//EN
BEGIN:VEVENT
UID:6007
DTSTAMP:20260422T152252
DTSTART:20130418T000000
DTEND:20140418T000000
SUMMARY:L'entitat local Animalets comença demà un nou curs sobre jardineria al Centre Cultural
LOCATION:
METHOD:PUBLISH
X-WR-CALNAME:llagosta@llagosta.cat
X-WR-TIMEZONE:Europe/Madrid
DESCRIPTION:L'Associació Protectora d'Animals i Plantes de la Llagosta, Animalets, organitzarà a partir de demà un nou curs sobre jardineria. Les places estan gairebé totes cobertes, però si alguna persona està interessada encara es podrà inscriure demà mateix al Centre Cultural.
URI:https://www.llagosta.cat/actualitat/noticies/lentitat-local-animalets-comenca-dema-un-nou-curs-sobre-jardineria-al-centre-cultural.html
CLASS:PUBLIC
END:VEVENT
END:VCALENDAR
