BEGIN:VCALENDAR
VERSION:2.0
CALSCALE:GREGORIAN
PRODID:-//Diputació de Barcelona//DibaCMS//EN
BEGIN:VEVENT
UID:6006
DTSTAMP:20260422T060607
DTSTART:20130418T000000
DTEND:20140418T000000
SUMMARY:La Llagosta celebra les seves primeres Jornades Solidàries per lluitar contra la malària
LOCATION:
METHOD:PUBLISH
X-WR-CALNAME:llagosta@llagosta.cat
X-WR-TIMEZONE:Europe/Madrid
DESCRIPTION:Demà, començaran les primeres Jornades Solidàries de la Llagosta. Aquesta iniciativa municipal es dedicarà aquest any a la lluita contra la malària, col·laborant amb el projecte Malària 40. 
URI:https://www.llagosta.cat/actualitat/noticies/la-llagosta-celebra-les-seves-primeres-jornades-solidaries-per-lluitar-contra-la-malaria.html
CLASS:PUBLIC
END:VEVENT
END:VCALENDAR
