BEGIN:VCALENDAR
VERSION:2.0
CALSCALE:GREGORIAN
PRODID:-//Diputació de Barcelona//DibaCMS//EN
BEGIN:VEVENT
UID:6005
DTSTAMP:20260422T162324
DTSTART:20130418T000000
DTEND:20140418T000000
SUMMARY:L'equip sènior del Joventut Handbol se situa líder del seu grup de la fase d'ascens
LOCATION:
METHOD:PUBLISH
X-WR-CALNAME:llagosta@llagosta.cat
X-WR-TIMEZONE:Europe/Madrid
DESCRIPTION:El sènior del Joventut Handbol La Llagosta ha començat amb bon peu la fase d'ascens a Tercera Preferent. Els de la nostra localitat van guanyar el cap de setmana per 16 a 27 el Sant Llorenç i se situen primers del grup A.
URI:https://www.llagosta.cat/actualitat/noticies/lequip-senior-del-joventut-handbol-se-situa-lider-del-seu-grup-de-la-fase-dascens.html
CLASS:PUBLIC
END:VEVENT
END:VCALENDAR
