BEGIN:VCALENDAR
VERSION:2.0
CALSCALE:GREGORIAN
PRODID:-//Diputació de Barcelona//DibaCMS//EN
BEGIN:VEVENT
UID:6004
DTSTAMP:20260422T033908
DTSTART:20130418T000000
DTEND:20140418T000000
SUMMARY:ICV celebra la seva 10a Assemblea Nacional amb la participació de cinc llagostencs
LOCATION:
METHOD:PUBLISH
X-WR-CALNAME:llagosta@llagosta.cat
X-WR-TIMEZONE:Europe/Madrid
DESCRIPTION:Cinc llagostencs, Alberto López, Ana Belén Cazorla, Marta Melgar, Jesús Ríos i Inocencio Jaramillo, participaran en la desena Assemblea Nacional d'Iniciativa per Catalunya Verds, que se celebrarà entre demà i diumenge a Viladecans. Els representants de l'Assemblea Local d'ICV formaran part de la delegació del Vallès Oriental, formada per 45 persones.
URI:https://www.llagosta.cat/actualitat/noticies/icv-celebra-la-seva-10a-assemblea-nacional-amb-la-participacio-de-cinc-llagostencs.html
CLASS:PUBLIC
END:VEVENT
END:VCALENDAR
