BEGIN:VCALENDAR
VERSION:2.0
CALSCALE:GREGORIAN
PRODID:-//Diputació de Barcelona//DibaCMS//EN
BEGIN:VEVENT
UID:6003
DTSTAMP:20260422T100403
DTSTART:20130418T000000
DTEND:20140418T000000
SUMMARY:Dissabte, finals comarcals de futbol sala dels Jocs Esportius Escolars, a la Llagosta
LOCATION:
METHOD:PUBLISH
X-WR-CALNAME:llagosta@llagosta.cat
X-WR-TIMEZONE:Europe/Madrid
DESCRIPTION:La Llagosta acollirà dissabte diverses finals comarcals dels Jocs Esportius Escolars organitzats pel Consell Esportiu del Vallès Oriental. L'Ajuntament s'havia ofert per tal que la nostra localitat fos seu d'aquests partits. En concret, al Complex Esportiu Municipal El Turó se celebrarà dissabte la competició de futbol sala de les categories infantil i cadet masculí.
URI:https://www.llagosta.cat/actualitat/noticies/dissabte-finals-comarcals-de-futbol-sala-dels-jocs-esportius-escolars-a-la-llagosta.html
CLASS:PUBLIC
END:VEVENT
END:VCALENDAR
