BEGIN:VCALENDAR
VERSION:2.0
CALSCALE:GREGORIAN
PRODID:-//Diputació de Barcelona//DibaCMS//EN
BEGIN:VEVENT
UID:6002
DTSTAMP:20260421T224125
DTSTART:20130418T000000
DTEND:20140518T000000
SUMMARY:El Club Deportivo La Concòrdia guanya el Riudellots (6-1) i ocupa la cinquena posició
LOCATION:
METHOD:PUBLISH
X-WR-CALNAME:llagosta@llagosta.cat
X-WR-TIMEZONE:Europe/Madrid
DESCRIPTION:El Club Deportivo La Concòrdia va derrotar la jornada passada per un clar 6 a 1 el Riudellots. Les de la nostra localitat van ser molt superiors i no van tenir cap problema per sumar un nou triomf.
URI:https://www.llagosta.cat/actualitat/noticies/el-club-deportivo-la-concordia-guanya-el-riudellots-6-1-i-ocupa-la-cinquena-posicio.html
CLASS:PUBLIC
END:VEVENT
END:VCALENDAR
