BEGIN:VCALENDAR
VERSION:2.0
CALSCALE:GREGORIAN
PRODID:-//Diputació de Barcelona//DibaCMS//EN
BEGIN:VEVENT
UID:6001
DTSTAMP:20260422T072533
DTSTART:20130417T000000
DTEND:20140417T000000
SUMMARY:El llagostenc Iván Buendía, tercer al Campionat de Catalunya absolut
LOCATION:
METHOD:PUBLISH
X-WR-CALNAME:llagosta@llagosta.cat
X-WR-TIMEZONE:Europe/Madrid
DESCRIPTION:El llagostenc del Club de Judo del Gimnàs La Llagosta Iván Buendía ha quedat tercer al Campionat de Catalunya absolut, celebrat el cap de setmana passat a Barcelona. Buendía, que actualment és júnior, va competir a la categoria de menys de 73 quilos.
URI:https://www.llagosta.cat/actualitat/noticies/el-llagostenc-ivan-buendia-tercer-al-campionat-de-catalunya-absolut.html
CLASS:PUBLIC
END:VEVENT
END:VCALENDAR
