BEGIN:VCALENDAR
VERSION:2.0
CALSCALE:GREGORIAN
PRODID:-//Diputació de Barcelona//DibaCMS//EN
BEGIN:VEVENT
UID:6000
DTSTAMP:20260422T002258
DTSTART:20130417T000000
DTEND:20140407T000000
SUMMARY:El col·lectiu de Can Piella se suma al Dia Internacional de la Lluita Pagesa
LOCATION:
METHOD:PUBLISH
X-WR-CALNAME:llagosta@llagosta.cat
X-WR-TIMEZONE:Europe/Madrid
DESCRIPTION:El col·lectiu de Can Piella se sumarà dissabte al Dia Internacional de la Lluita Pagesa. La masia situada al Pla de Reixac, a tocar amb el terme municipal de la Llagosta, acollirà tot un seguit d'activitats emmarcades en la Jornada Agroecològica en defensa de Can Piella.
URI:https://www.llagosta.cat/actualitat/noticies/el-collectiu-de-can-piella-se-suma-al-dia-internacional-de-la-lluita-pagesa.html
CLASS:PUBLIC
END:VEVENT
END:VCALENDAR
