BEGIN:VCALENDAR
VERSION:2.0
CALSCALE:GREGORIAN
PRODID:-//Diputació de Barcelona//DibaCMS//EN
BEGIN:VEVENT
UID:5999
DTSTAMP:20260422T002503
DTSTART:20130417T000000
DTEND:20140417T000000
SUMMARY:El sènior del Vallag perd contra l'OAR Gràcia el segon partit de la fase d'ascens
LOCATION:
METHOD:PUBLISH
X-WR-CALNAME:llagosta@llagosta.cat
X-WR-TIMEZONE:Europe/Madrid
DESCRIPTION:El sènior de l'Handbol Club Vallag de la Llagosta va perdre el cap de setmana el segon partit de la fase d'ascens a Primera Catalana. Els de la nostra localitat van caure per un ajustat 24 a 26 contra l'OAR Gràcia. 
URI:https://www.llagosta.cat/actualitat/noticies/el-senior-del-vallag-perd-contra-loar-gracia-el-segon-partit-de-la-fase-dascens.html
CLASS:PUBLIC
END:VEVENT
END:VCALENDAR
