BEGIN:VCALENDAR
VERSION:2.0
CALSCALE:GREGORIAN
PRODID:-//Diputació de Barcelona//DibaCMS//EN
BEGIN:VEVENT
UID:5998
DTSTAMP:20260423T144856
DTSTART:20130417T000000
DTEND:20140417T000000
SUMMARY:L'alcalde diu que només ha anat a declarar i està segur que la querella serà arxivada
LOCATION:
METHOD:PUBLISH
X-WR-CALNAME:llagosta@llagosta.cat
X-WR-TIMEZONE:Europe/Madrid
DESCRIPTION:L'alcalde de la Llagosta, Alberto López, ha indicat que en cap moment s'ha ocultat que hi ha una querella de Geafe contra regidors i treballadors de l'Ajuntament de la Llagosta. López ha recordat que ja es va informar que el dia 1 de març anava a declarar davant del jutge per aquest tema. 
URI:https://www.llagosta.cat/actualitat/noticies/lalcalde-diu-que-nomes-ha-anat-a-declarar-i-esta-segur-que-la-querella-sera-arxivada.html
CLASS:PUBLIC
END:VEVENT
END:VCALENDAR
