BEGIN:VCALENDAR
VERSION:2.0
CALSCALE:GREGORIAN
PRODID:-//Diputació de Barcelona//DibaCMS//EN
BEGIN:VEVENT
UID:5997
DTSTAMP:20260422T114755
DTSTART:20130417T000000
DTEND:20140417T000000
SUMMARY:El PSC de la Llagosta demana la dimissió de l'alcalde perquè assegura que està imputat
LOCATION:
METHOD:PUBLISH
X-WR-CALNAME:llagosta@llagosta.cat
X-WR-TIMEZONE:Europe/Madrid
DESCRIPTION:La Comissió Executiva del Partit dels Socialistes de Catalunya de la Llagosta demana la dimissió de l'alcalde, Alberto López, perquè assegura que està imputat per un presumpte delicte de prevaricació per la querella presentada per Geafe, l'empresa que s'encarregava de la gestió del Complex Esportiu Municipal El Turó. En un comunicat de premsa, el PSC afirma que l'alcalde ha amagat a la població la seva condició d'imputat. 
URI:https://www.llagosta.cat/actualitat/noticies/el-psc-de-la-llagosta-demana-la-dimissio-de-lalcalde-perque-assegura-que-esta-imputat.html
CLASS:PUBLIC
END:VEVENT
END:VCALENDAR
