BEGIN:VCALENDAR
VERSION:2.0
CALSCALE:GREGORIAN
PRODID:-//Diputació de Barcelona//DibaCMS//EN
BEGIN:VEVENT
UID:5996
DTSTAMP:20260423T033522
DTSTART:20130416T000000
DTEND:20140316T000000
SUMMARY:L'edil Raúl Valero nega les acusacions i sol·licita una rectificació a ICV-EUiA
LOCATION:
METHOD:PUBLISH
X-WR-CALNAME:llagosta@llagosta.cat
X-WR-TIMEZONE:Europe/Madrid
DESCRIPTION:El regidor socialista Raúl Valero ha assegurat que ahir va anar al judici com a testimoni d'un dels treballadors acomiadats en el seu dia per Geafe, representat per la UGT, i que, en cap cas, ho va fer per defensar els interessos de l'antiga concessionària de la gestió del Complex Esportiu Municipal El Turó. Per aquest motiu, Valero demana una rectificació a ICV i EUiA. L'edil del PSC ha indicat que no té cap intenció de dimitir, ja que creu que ha actuat correctament.
URI:https://www.llagosta.cat/actualitat/noticies/ledil-raul-valero-nega-les-acusacions-i-sollicita-una-rectificacio-a-icv-euia.html
CLASS:PUBLIC
END:VEVENT
END:VCALENDAR
