BEGIN:VCALENDAR
VERSION:2.0
CALSCALE:GREGORIAN
PRODID:-//Diputació de Barcelona//DibaCMS//EN
BEGIN:VEVENT
UID:5995
DTSTAMP:20260422T021909
DTSTART:20130416T000000
DTEND:20140416T000000
SUMMARY:ICV i EUiA demanen la dimissió del regidor socialista Raúl Valero
LOCATION:
METHOD:PUBLISH
X-WR-CALNAME:llagosta@llagosta.cat
X-WR-TIMEZONE:Europe/Madrid
DESCRIPTION:La coalició local d'Iniciativa per Catalunya Verds-Esquerra Unida i Alternativa ha fet públic avui un comunicat en el qual demana la dimissió de Raúl Valero, regidor del Partit dels Socialistes. Segons ICV-EUiA, Valero va anar ahir a un judici que s'havia de celebrar a Granollers per declarar com a testimoni de la UGT i de l'empresa Geafe contra l'Ajuntament de la Llagosta. 
URI:https://www.llagosta.cat/actualitat/noticies/icv-i-euia-demanen-la-dimissio-del-regidor-socialista-raul-valero.html
CLASS:PUBLIC
END:VEVENT
END:VCALENDAR
