BEGIN:VCALENDAR
VERSION:2.0
CALSCALE:GREGORIAN
PRODID:-//Diputació de Barcelona//DibaCMS//EN
BEGIN:VEVENT
UID:5994
DTSTAMP:20260422T061118
DTSTART:20130416T000000
DTEND:20140407T000000
SUMMARY:El Viejas Glorias desaprofita moltes ocasions de gol i empata a casa contra el Pomar (1-1)
LOCATION:
METHOD:PUBLISH
X-WR-CALNAME:llagosta@llagosta.cat
X-WR-TIMEZONE:Europe/Madrid
DESCRIPTION:El Club Deportivo Viejas Glorias va empatar dissabte a un gol a casa contra el Pomar. Els llagostencs van desaprofitar moltes ocasions i es van haver de conformar amb un empat contra un conjunt de la part baixa de la classificació.
URI:https://www.llagosta.cat/actualitat/noticies/el-viejas-glorias-desaprofita-moltes-ocasions-de-gol-i-empata-a-casa-contra-el-pomar-1-1.html
CLASS:PUBLIC
END:VEVENT
END:VCALENDAR
