BEGIN:VCALENDAR
VERSION:2.0
CALSCALE:GREGORIAN
PRODID:-//Diputació de Barcelona//DibaCMS//EN
BEGIN:VEVENT
UID:5993
DTSTAMP:20260422T163948
DTSTART:20130416T000000
DTEND:20140416T000000
SUMMARY:El Fútbol Sala Unión Llagostense derrota el Tiana (3-1) en un partit molt còmode
LOCATION:
METHOD:PUBLISH
X-WR-CALNAME:llagosta@llagosta.cat
X-WR-TIMEZONE:Europe/Madrid
DESCRIPTION:El primer equip del Fútbol Sala Unión Llagostense va guanyar el cap de setmana el Tiana per 3 a 1. Els llagostencs van dominar el partit en tot moment. Al descans, el resultat era de 2 a 0. A la segona part, els de José Manuel Poyato es van situar amb un clar 3 a 0. El gol del Tiana no van canviar res.
URI:https://www.llagosta.cat/actualitat/noticies/el-futbol-sala-union-llagostense-derrota-el-tiana-3-1-en-un-partit-molt-comode.html
CLASS:PUBLIC
END:VEVENT
END:VCALENDAR
