BEGIN:VCALENDAR
VERSION:2.0
CALSCALE:GREGORIAN
PRODID:-//Diputació de Barcelona//DibaCMS//EN
BEGIN:VEVENT
UID:5992
DTSTAMP:20260422T022054
DTSTART:20130416T000000
DTEND:20140416T000000
SUMMARY:La Comissió Jove Festa Major 2013 es tornarà a reunir demà a les set de la tarda a Can Pelegrí
LOCATION:
METHOD:PUBLISH
X-WR-CALNAME:llagosta@llagosta.cat
X-WR-TIMEZONE:Europe/Madrid
DESCRIPTION:Can Pelegrí acollirà demà a partir de les set de la tarda una nova reunió de la Comissió Jove Festa Major 2013. Els grups de treball continuaran elaborant diferents propostes per a la festa gran de la Llagosta.
URI:https://www.llagosta.cat/actualitat/noticies/la-comissio-jove-festa-major-2013-es-tornara-a-reunir-dema-a-les-set-de-la-tarda-a-can-pelegri.html
CLASS:PUBLIC
END:VEVENT
END:VCALENDAR
