BEGIN:VCALENDAR
VERSION:2.0
CALSCALE:GREGORIAN
PRODID:-//Diputació de Barcelona//DibaCMS//EN
BEGIN:VEVENT
UID:5991
DTSTAMP:20260422T001236
DTSTART:20130416T000000
DTEND:20140517T000000
SUMMARY:Ja han començat les obres per reparar part del mur de contenció de la riera Seca
LOCATION:
METHOD:PUBLISH
X-WR-CALNAME:llagosta@llagosta.cat
X-WR-TIMEZONE:Europe/Madrid
DESCRIPTION:L'Ajuntament de la Llagosta ha iniciat les obres per reparar el mur de contenció de la riera Seca, a l’alçada dels carrers de Nicolàs Longarón i de Sant Pau. L'estructura es troba deteriorada per un descalç que afecta la cimentació del mur amb una profunditat d’entre 1,5 i 2,30 metres, i per l’acció del corrent d’aigua de la riera podria avançar cap a l’interior del carrer i podria afectar l’estabilitat del mur i de la via pública.
URI:https://www.llagosta.cat/actualitat/noticies/ja-han-comencat-les-obres-per-reparar-part-del-mur-de-contencio-de-la-riera-seca.html
CLASS:PUBLIC
END:VEVENT
END:VCALENDAR
