BEGIN:VCALENDAR
VERSION:2.0
CALSCALE:GREGORIAN
PRODID:-//Diputació de Barcelona//DibaCMS//EN
BEGIN:VEVENT
UID:5990
DTSTAMP:20260422T100203
DTSTART:20130416T000000
DTEND:20140416T000000
SUMMARY:El Concurs de Cante Jondo Ciutat de la Llagosta està dedicat enguany a Blas Maqueda
LOCATION:
METHOD:PUBLISH
X-WR-CALNAME:llagosta@llagosta.cat
X-WR-TIMEZONE:Europe/Madrid
DESCRIPTION:La Casa de Andalucía de la Llagosta celebrarà aquest any l'edició número 30 del Concurs de Cante Jondo Ciutat de la Llagosta. El certamen està dedicat en aquesta ocasió al cantaor Blas Maqueda, que ha guanyat en dues ocasions el concurs de cante jondo de la nostra localitat. 
URI:https://www.llagosta.cat/actualitat/noticies/el-concurs-de-cante-jondo-ciutat-de-la-llagosta-esta-dedicat-enguany-a-blas-maqueda.html
CLASS:PUBLIC
END:VEVENT
END:VCALENDAR
