BEGIN:VCALENDAR
VERSION:2.0
CALSCALE:GREGORIAN
PRODID:-//Diputació de Barcelona//DibaCMS//EN
BEGIN:VEVENT
UID:5989
DTSTAMP:20260422T001116
DTSTART:20130415T000000
DTEND:20140415T000000
SUMMARY:La bandera republicana va ser hissada a l'Ajuntament
LOCATION:
METHOD:PUBLISH
X-WR-CALNAME:llagosta@llagosta.cat
X-WR-TIMEZONE:Europe/Madrid
DESCRIPTION:Coincidint amb l'aniversari de la proclamació de la Segona República, la bandera republicana va onejar a l'Ajuntament al costat de la bandera de la Llagosta i la Senyera. D'aquesta manera, es compleix amb la moció aprovada al ple ordinari de l'abril de l'any passat que instava a l'Ajuntament a hissar la tricolor cada 14 d'abril.
URI:https://www.llagosta.cat/actualitat/noticies/la-bandera-republicana-va-ser-hissada-a-lajuntament.html
CLASS:PUBLIC
END:VEVENT
END:VCALENDAR
