BEGIN:VCALENDAR
VERSION:2.0
CALSCALE:GREGORIAN
PRODID:-//Diputació de Barcelona//DibaCMS//EN
BEGIN:VEVENT
UID:5988
DTSTAMP:20260422T132542
DTSTART:20130415T000000
DTEND:20140415T000000
SUMMARY:Estudiants de quart de Primària de l'Escola Sagrada Família han visitat l'Ajuntament
LOCATION:
METHOD:PUBLISH
X-WR-CALNAME:llagosta@llagosta.cat
X-WR-TIMEZONE:Europe/Madrid
DESCRIPTION:Alumnes de quart de Primària de l'Escola Sagrada Família de la Llagosta han visitat avui l'Ajuntament. Els estudiants han recorregut diverses dependències municipals acompanyats de l'alcalde, Alberto López. La visita ha finalitzat al saló de plens, on els joves alumnes han pogut fer diverses preguntes a l'alcalde.
URI:https://www.llagosta.cat/actualitat/noticies/estudiants-de-quart-de-primaria-de-lescola-sagrada-familia-han-visitat-lajuntament.html
CLASS:PUBLIC
END:VEVENT
END:VCALENDAR
