BEGIN:VCALENDAR
VERSION:2.0
CALSCALE:GREGORIAN
PRODID:-//Diputació de Barcelona//DibaCMS//EN
BEGIN:VEVENT
UID:5987
DTSTAMP:20260422T090843
DTSTART:20130415T000000
DTEND:20140415T000000
SUMMARY:Demà, jornada de portes obertes a l'Escola Bressol Municipal Cucutras de la Llagosta
LOCATION:
METHOD:PUBLISH
X-WR-CALNAME:llagosta@llagosta.cat
X-WR-TIMEZONE:Europe/Madrid
DESCRIPTION:L'Escola Bressol Municipal Cucutras de la Llagosta farà demà la seva jornada de portes obertes. El centre obrirà les seves portes d'onze a una. La guarderia pública de la Llagosta està al carrer de l'Estació, número 30, al costat de l'Escola Joan Maragall i de l'Institut Marina.
URI:https://www.llagosta.cat/actualitat/noticies/dema-jornada-de-portes-obertes-a-lescola-bressol-municipal-cucutras-de-la-llagosta.html
CLASS:PUBLIC
END:VEVENT
END:VCALENDAR
