BEGIN:VCALENDAR
VERSION:2.0
CALSCALE:GREGORIAN
PRODID:-//Diputació de Barcelona//DibaCMS//EN
BEGIN:VEVENT
UID:5986
DTSTAMP:20260424T110525
DTSTART:20130415T000000
DTEND:20140415T000000
SUMMARY:EUiA de la Llagosta va inaugurar ahir la seva nova seu al número 19 del Pintor Sert
LOCATION:
METHOD:PUBLISH
X-WR-CALNAME:llagosta@llagosta.cat
X-WR-TIMEZONE:Europe/Madrid
DESCRIPTION:Esquerra Unida i Alternativa de la Llagosta va inaugurar ahir la seva nova seu. A l'acte va assistir el coordinador nacional d'EUiA, Joan Josep Nuet. El local d'Esquerra Unida està situat al passeig del Pintor Sert, número 19. 
URI:https://www.llagosta.cat/actualitat/noticies/euia-de-la-llagosta-va-inaugurar-ahir-la-seva-nova-seu-al-numero-19-del-pintor-sert.html
CLASS:PUBLIC
END:VEVENT
END:VCALENDAR
