BEGIN:VCALENDAR
VERSION:2.0
CALSCALE:GREGORIAN
PRODID:-//Diputació de Barcelona//DibaCMS//EN
BEGIN:VEVENT
UID:5985
DTSTAMP:20260423T000637
DTSTART:20130415T000000
DTEND:20140415T000000
SUMMARY:L'Ajuntament aprova el pressupost municipal de 2013 amb l'únic vot en contra de CiU
LOCATION:
METHOD:PUBLISH
X-WR-CALNAME:llagosta@llagosta.cat
X-WR-TIMEZONE:Europe/Madrid
DESCRIPTION:L'Ajuntament de la Llagosta va aprovar divendres el pressupost municipal de 2013 durant la celebració d'un ple extraordinari. El punt va comptar amb el vot a favor de tots els regidors de l'equip de govern municipal (ICV-EUiA, CPLL i l'edil no adscrit, José Luis Gutiérrez) i de l'únic regidor del PP present a la sala, Jaume Bonallach, el vot en contra de CiU i l'abstenció del PSC.
URI:https://www.llagosta.cat/actualitat/noticies/lajuntament-aprova-el-pressupost-municipal-de-2013-amb-lunic-vot-en-contra-de-ciu.html
CLASS:PUBLIC
END:VEVENT
END:VCALENDAR
