BEGIN:VCALENDAR
VERSION:2.0
CALSCALE:GREGORIAN
PRODID:-//Diputació de Barcelona//DibaCMS//EN
BEGIN:VEVENT
UID:5984
DTSTAMP:20260424T110733
DTSTART:20130412T000000
DTEND:20140412T000000
SUMMARY:Una trentena de persones assisteixen a la presentació de la proposta de pressupost
LOCATION:
METHOD:PUBLISH
X-WR-CALNAME:llagosta@llagosta.cat
X-WR-TIMEZONE:Europe/Madrid
DESCRIPTION:L'equip de govern de l'Ajuntament de la Llagosta considera que el pressupost que presentarà al ple d'aquesta tarda per a la seva aprovació servirà per lluitar contra l'atur i l'exclusió social. Els comptes previstos estan pensats per donar servei a les persones i fer costat a les entitats i associacions de la Llagosta. Així, es va manifestar ahir durant l'acte de presentació pública de la proposta de pressupost que es va realitzar al Centre Cultural.
URI:https://www.llagosta.cat/actualitat/noticies/una-trentena-de-persones-assisteixen-a-la-presentacio-de-la-proposta-de-pressupost.html
CLASS:PUBLIC
END:VEVENT
END:VCALENDAR
