BEGIN:VCALENDAR
VERSION:2.0
CALSCALE:GREGORIAN
PRODID:-//Diputació de Barcelona//DibaCMS//EN
BEGIN:VEVENT
UID:5983
DTSTAMP:20260422T113812
DTSTART:20130412T000000
DTEND:20140412T000000
SUMMARY:L'Ajuntament celebra aquesta tarda un ple per aprovar el pressupost d'aquest exercici
LOCATION:
METHOD:PUBLISH
X-WR-CALNAME:llagosta@llagosta.cat
X-WR-TIMEZONE:Europe/Madrid
DESCRIPTION:L'Ajuntament de la Llagosta celebrarà avui, a les set de la tarda, un ple extraordinari per aprovar el pressupost municipal d'aquest any 2013. L'equip de govern presentarà un pressupost total de 9.979.289 euros.
URI:https://www.llagosta.cat/actualitat/noticies/lajuntament-celebra-aquesta-tarda-un-ple-per-aprovar-el-pressupost-daquest-exercici.html
CLASS:PUBLIC
END:VEVENT
END:VCALENDAR
