BEGIN:VCALENDAR
VERSION:2.0
CALSCALE:GREGORIAN
PRODID:-//Diputació de Barcelona//DibaCMS//EN
BEGIN:VEVENT
UID:5982
DTSTAMP:20260422T060326
DTSTART:20130412T000000
DTEND:20140412T000000
SUMMARY:La plaça de Pere IV de la Llagosta acollirà demà un acte a favor de la República
LOCATION:
METHOD:PUBLISH
X-WR-CALNAME:llagosta@llagosta.cat
X-WR-TIMEZONE:Europe/Madrid
DESCRIPTION:El Casal Popular La República de la Llagosta organitzarà demà un concert per la República. L'acte començarà a les sis de la tarda a la plaça de Pere IV i hi actuaran Víctor Segundo, Mindust, Gual permanent i Tootenso. 
URI:https://www.llagosta.cat/actualitat/noticies/la-placa-de-pere-iv-de-la-llagosta-acollira-dema-un-acte-a-favor-de-la-republica.html
CLASS:PUBLIC
END:VEVENT
END:VCALENDAR
