BEGIN:VCALENDAR
VERSION:2.0
CALSCALE:GREGORIAN
PRODID:-//Diputació de Barcelona//DibaCMS//EN
BEGIN:VEVENT
UID:5981
DTSTAMP:20260422T080109
DTSTART:20130412T000000
DTEND:20140412T000000
SUMMARY:La Casa de Andalucía de la Llagosta organitza demà un intercanvi al Centre Cultural
LOCATION:
METHOD:PUBLISH
X-WR-CALNAME:llagosta@llagosta.cat
X-WR-TIMEZONE:Europe/Madrid
DESCRIPTION:El Centre Cultural acollirà demà un nou intercanvi cultural organitzat per la Casa de Andalucía de la Llagosta. L'acte començarà a dos quarts de vuit de la tarda.
URI:https://www.llagosta.cat/actualitat/noticies/la-casa-de-andalucia-de-la-llagosta-organitza-dema-un-intercanvi-al-centre-cultural.html
CLASS:PUBLIC
END:VEVENT
END:VCALENDAR
