BEGIN:VCALENDAR
VERSION:2.0
CALSCALE:GREGORIAN
PRODID:-//Diputació de Barcelona//DibaCMS//EN
BEGIN:VEVENT
UID:5980
DTSTAMP:20260422T111012
DTSTART:20130412T000000
DTEND:20140412T000000
SUMMARY:Dilluns, xerrada sobre sexualitats i afectivitat a l'adolescència a l'Institut Balmes
LOCATION:
METHOD:PUBLISH
X-WR-CALNAME:llagosta@llagosta.cat
X-WR-TIMEZONE:Europe/Madrid
DESCRIPTION:L'Escola de pares i mares de la Llagosta organitzarà dilluns una xerrada sobre la sexualitat i l'afectivitat a l'adolescència. L'activitat es farà a partir de les sis de la tarda a l'Institut Balmes. La xerrada anirà a càrrec de l'Associació Catalana de Planificació Familiar de Catalunya i Balears. L'acte està especialment adreçat a mares i pares amb fills i filles adolescents, tot i que està obert a totes les persones interessades.
URI:https://www.llagosta.cat/actualitat/noticies/dilluns-xerrada-sobre-sexualitats-i-afectivitat-a-ladolescencia-a-linstitut-balmes.html
CLASS:PUBLIC
END:VEVENT
END:VCALENDAR
