BEGIN:VCALENDAR
VERSION:2.0
CALSCALE:GREGORIAN
PRODID:-//Diputació de Barcelona//DibaCMS//EN
BEGIN:VEVENT
UID:5979
DTSTAMP:20260421T210500
DTSTART:20130412T000000
DTEND:20140412T000000
SUMMARY:L'equip sènior del Joventut juga a la pistsa del Sant Llorenç-Sant Feliu de Llobregat B
LOCATION:
METHOD:PUBLISH
X-WR-CALNAME:llagosta@llagosta.cat
X-WR-TIMEZONE:Europe/Madrid
DESCRIPTION:El sènior del Joventut Handbol La Llagosta començarà demà la fase d'ascens a Tercera Preferent. Els llagostencs es desplaçaran a la pista del Sant Llorenç-Sant Feliu de Llobregat B.
URI:https://www.llagosta.cat/actualitat/noticies/lequip-senior-del-joventut-juga-a-la-pistsa-del-sant-llorenc-sant-feliu-de-llobregat-b.html
CLASS:PUBLIC
END:VEVENT
END:VCALENDAR
