BEGIN:VCALENDAR
VERSION:2.0
CALSCALE:GREGORIAN
PRODID:-//Diputació de Barcelona//DibaCMS//EN
BEGIN:VEVENT
UID:5978
DTSTAMP:20260421T210225
DTSTART:20130411T000000
DTEND:20140411T000000
SUMMARY:EUiA de la Llagosta inaugurarà diumenge el seu nou local, al passeig del Pintor Sert
LOCATION:
METHOD:PUBLISH
X-WR-CALNAME:llagosta@llagosta.cat
X-WR-TIMEZONE:Europe/Madrid
DESCRIPTION:Esquerra Unida i Alternativa de la Llagosta inaugurarà diumenge la seva nova seu. El local d'EUiA està situat al passeig del Pintor Sert, número 19. L'acte tindrà lloc a les cinc de la tarda.
URI:https://www.llagosta.cat/actualitat/noticies/euia-de-la-llagosta-inaugurara-diumenge-el-seu-nou-local-al-passeig-del-pintor-sert.html
CLASS:PUBLIC
END:VEVENT
END:VCALENDAR
