BEGIN:VCALENDAR
VERSION:2.0
CALSCALE:GREGORIAN
PRODID:-//Diputació de Barcelona//DibaCMS//EN
BEGIN:VEVENT
UID:5977
DTSTAMP:20260423T041415
DTSTART:20130411T000000
DTEND:20140412T000000
SUMMARY:La Pringá va omplir el Centre Cultural durant el concert de la seva presentació
LOCATION:
METHOD:PUBLISH
X-WR-CALNAME:llagosta@llagosta.cat
X-WR-TIMEZONE:Europe/Madrid
DESCRIPTION:El Centre Cultural es va omplir durant el concert de La Pringá, el grup llagostenc de flamenc-pop que va presentar la seva primera maqueta a la nostra localitat. El recital va tenir lloc dissabte i va durar més d'una hora mitja. 
URI:https://www.llagosta.cat/actualitat/noticies/la-pringa-va-omplir-el-centre-cultural-durant-el-concert-de-la-seva-presentacio.html
CLASS:PUBLIC
END:VEVENT
END:VCALENDAR
