BEGIN:VCALENDAR
VERSION:2.0
CALSCALE:GREGORIAN
PRODID:-//Diputació de Barcelona//DibaCMS//EN
BEGIN:VEVENT
UID:5976
DTSTAMP:20260422T122434
DTSTART:20130411T000000
DTEND:20140411T000000
SUMMARY:Demà, comença un taller de música i contes per als més menuts a la guarderia Niu Blau
LOCATION:
METHOD:PUBLISH
X-WR-CALNAME:llagosta@llagosta.cat
X-WR-TIMEZONE:Europe/Madrid
DESCRIPTION:L'Escola de pares i mares de la Llagosta organitza un taller de música i contes per als més menuts. L'activitat es desenvoluparà els dies 12, 19 i 26 d'abril a partir de les sis de la tarda a l'Escola bressol Niu Blau i anirà a càrrec d'Un conte al sac. Les persones interessades a participar-hi s'han d'inscriure al Centre Cultural i Juvenil Can Pelegrí. Les inscripcions són gratuïtes. 
URI:https://www.llagosta.cat/actualitat/noticies/dema-comenca-un-taller-de-musica-i-contes-per-als-mes-menuts-a-la-guarderia-niu-blau.html
CLASS:PUBLIC
END:VEVENT
END:VCALENDAR
