BEGIN:VCALENDAR
VERSION:2.0
CALSCALE:GREGORIAN
PRODID:-//Diputació de Barcelona//DibaCMS//EN
BEGIN:VEVENT
UID:5975
DTSTAMP:20260422T204106
DTSTART:20130411T000000
DTEND:20140411T000000
SUMMARY:El sènior de l'Esportiu Bàsquet Club cau a casa contra el Martorelles per 58 a 71
LOCATION:
METHOD:PUBLISH
X-WR-CALNAME:llagosta@llagosta.cat
X-WR-TIMEZONE:Europe/Madrid
DESCRIPTION:El sènior de l'Esportiu Bàsquet Club de la Llagosta va perdre la jornada passada davant del Martorelles per 58 a 71. Els de la nostra localitat han baixat fins a l'onzena posició a la taula.
URI:https://www.llagosta.cat/actualitat/noticies/el-senior-de-lesportiu-basquet-club-cau-a-casa-contra-el-martorelles-per-58-a-71.html
CLASS:PUBLIC
END:VEVENT
END:VCALENDAR
