BEGIN:VCALENDAR
VERSION:2.0
CALSCALE:GREGORIAN
PRODID:-//Diputació de Barcelona//DibaCMS//EN
BEGIN:VEVENT
UID:5974
DTSTAMP:20260422T182321
DTSTART:20130411T000000
DTEND:20140401T000000
SUMMARY:La Concòrdia encaixa la cinquena derrota de la temporada a Altafulla (6-3)
LOCATION:
METHOD:PUBLISH
X-WR-CALNAME:llagosta@llagosta.cat
X-WR-TIMEZONE:Europe/Madrid
DESCRIPTION:El Club Deportivo La Concòrdia va perdre la jornada passada per 6 a 3 a la pista de l'Altafulla. El conjunt llagostenc es va trobar ràpidament amb un gol en contra. Estefa va empatar, però l'Altafulla va reaccionar i, al minut 24, guanyava per 4 a 1.
URI:https://www.llagosta.cat/actualitat/noticies/la-concordia-encaixa-la-cinquena-derrota-de-la-temporada-a-altafulla-6-3.html
CLASS:PUBLIC
END:VEVENT
END:VCALENDAR
