BEGIN:VCALENDAR
VERSION:2.0
CALSCALE:GREGORIAN
PRODID:-//Diputació de Barcelona//DibaCMS//EN
BEGIN:VEVENT
UID:5973
DTSTAMP:20260422T130148
DTSTART:20130410T000000
DTEND:20140410T000000
SUMMARY:Un total de 120 persones participaran demà en una passejada per la Llagosta
LOCATION:
METHOD:PUBLISH
X-WR-CALNAME:llagosta@llagosta.cat
X-WR-TIMEZONE:Europe/Madrid
DESCRIPTION:La Llagosta acollirà demà la passejada per a la gent gran del mes d'abril. El recorregut es desenvoluparà per la Llagosta i Santa Perpètua de Mogoda. 120 persones participaran en aquesta excursió.
URI:https://www.llagosta.cat/actualitat/noticies/un-total-de-120-persones-participaran-dema-en-una-passejada-per-la-llagosta.html
CLASS:PUBLIC
END:VEVENT
END:VCALENDAR
