BEGIN:VCALENDAR
VERSION:2.0
CALSCALE:GREGORIAN
PRODID:-//Diputació de Barcelona//DibaCMS//EN
BEGIN:VEVENT
UID:5972
DTSTAMP:20260422T230842
DTSTART:20130410T000000
DTEND:20140410T000000
SUMMARY:En marxa la segona gimcana de Sant Jordi organitzada per La Llagosta + Activa
LOCATION:
METHOD:PUBLISH
X-WR-CALNAME:llagosta@llagosta.cat
X-WR-TIMEZONE:Europe/Madrid
DESCRIPTION:L'associació La Llagosta + Activa ja ha posat en marxa la segona gimcana de Sant Jordi. L'activitat està oberta a tots els infants i joves de la nostra localitat. Els participants en aquesta gimcana han de completar un llibret resolent enigmes que es troben amagats per la nostra localitat.
URI:https://www.llagosta.cat/actualitat/noticies/en-marxa-la-segona-gimcana-de-sant-jordi-organitzada-per-la-llagosta--activa.html
CLASS:PUBLIC
END:VEVENT
END:VCALENDAR
