BEGIN:VCALENDAR
VERSION:2.0
CALSCALE:GREGORIAN
PRODID:-//Diputació de Barcelona//DibaCMS//EN
BEGIN:VEVENT
UID:5971
DTSTAMP:20260422T105053
DTSTART:20130410T000000
DTEND:20140410T000000
SUMMARY:El sènior del Vallag comença la fase d'ascens amb una derrota a Molins de Rei
LOCATION:
METHOD:PUBLISH
X-WR-CALNAME:llagosta@llagosta.cat
X-WR-TIMEZONE:Europe/Madrid
DESCRIPTION:El sènior de l'Handbol Club Vallag de la Llagosta va perdre dissabte el primer partit de la fase d'ascens per 33 a 27 a la pista del Molins de Rei. Els de la nostra localitat se situen així a la cua de la classificació.
URI:https://www.llagosta.cat/actualitat/noticies/el-senior-del-vallag-comenca-la-fase-dascens-amb-una-derrota-a-molins-de-rei.html
CLASS:PUBLIC
END:VEVENT
END:VCALENDAR
