BEGIN:VCALENDAR
VERSION:2.0
CALSCALE:GREGORIAN
PRODID:-//Diputació de Barcelona//DibaCMS//EN
BEGIN:VEVENT
UID:5970
DTSTAMP:20260422T160240
DTSTART:20130410T000000
DTEND:20140410T000000
SUMMARY:Avui surt al carrer el Butlletí d'Informació Municipal del mes d'abril
LOCATION:
METHOD:PUBLISH
X-WR-CALNAME:llagosta@llagosta.cat
X-WR-TIMEZONE:Europe/Madrid
DESCRIPTION:L'Ajuntament de la Llagosta distribueix avui el Butlletí d'Informació Municipal del mes d'abril. La publicació recull les notícies que ha generat el Consistori durant les darreres setmanes.
URI:https://www.llagosta.cat/actualitat/noticies/14-04-2015-avui-surt-al-carrer-el-butlleti-dinformacio-municipal-del-mes-dabril.html
CLASS:PUBLIC
END:VEVENT
END:VCALENDAR
