BEGIN:VCALENDAR
VERSION:2.0
CALSCALE:GREGORIAN
PRODID:-//Diputació de Barcelona//DibaCMS//EN
BEGIN:VEVENT
UID:5969
DTSTAMP:20260422T130119
DTSTART:20130410T000000
DTEND:20140410T000000
SUMMARY:L'equip de govern municipal presentarà demà la seva proposta de pressupost municipal
LOCATION:
METHOD:PUBLISH
X-WR-CALNAME:llagosta@llagosta.cat
X-WR-TIMEZONE:Europe/Madrid
DESCRIPTION:L'Ajuntament de la Llagosta presentarà demà la proposta de pressupost municipal per a aquest any que portarà l'equip de govern al ple que se celebrarà divendres. L'acte, obert a tota la ciutadania, tindrà lloc a partir de les vuit del vespre al Centre Cultural.
URI:https://www.llagosta.cat/actualitat/noticies/lequip-de-govern-municipal-presentara-dema-la-seva-proposta-de-pressupost-municipal.html
CLASS:PUBLIC
END:VEVENT
END:VCALENDAR
