BEGIN:VCALENDAR
VERSION:2.0
CALSCALE:GREGORIAN
PRODID:-//Diputació de Barcelona//DibaCMS//EN
BEGIN:VEVENT
UID:5968
DTSTAMP:20260423T120511
DTSTART:20130409T000000
DTEND:20140409T000000
SUMMARY:Presentades 31 propostes per a la segona fase del projecte Suem la samarreta
LOCATION:
METHOD:PUBLISH
X-WR-CALNAME:llagosta@llagosta.cat
X-WR-TIMEZONE:Europe/Madrid
DESCRIPTION:L'Ajuntament de la Llagosta ha presentat avui la segona fase del projecte Suem la samarreta i ens mullem contra l'atur al Centre Cultural de la plaça de l'alcalde Sisó Pons. L'acte ha comptat amb l'assistència del president del Consell Comarcal del Vallès Oriental, José Orive; l'alcalde de la Llagosta, Alberto López; el regidor de Treball, Indústria i Formació ocupacional, Adelino Macías; el president de la Federació de Cooperatives de Treball de Catalunya, Perfecto Alonso, i el director de l'àrea de Qualificació Professional de l'escola Sant Gervasi, Antoni Duran.
URI:https://www.llagosta.cat/actualitat/noticies/presentades-31-propostes-per-a-la-segona-fase-del-projecte-suem-la-samarreta.html
CLASS:PUBLIC
END:VEVENT
END:VCALENDAR
