BEGIN:VCALENDAR
VERSION:2.0
CALSCALE:GREGORIAN
PRODID:-//Diputació de Barcelona//DibaCMS//EN
BEGIN:VEVENT
UID:5967
DTSTAMP:20260422T092433
DTSTART:20130409T000000
DTEND:20140509T000000
SUMMARY:El Viejas Glorias aconsegueix un empat (3-3) al camp de l'Águilas de Montcada
LOCATION:
METHOD:PUBLISH
X-WR-CALNAME:llagosta@llagosta.cat
X-WR-TIMEZONE:Europe/Madrid
DESCRIPTION:El Club Deportivo Viejas Glorias va empatar la jornada passada a tres gols davant de l'Águilas de Montcada i Reixac. El conjunt llagostenc va salvar un punt al camp d'un dels equips de la part alta de la classificació.
URI:https://www.llagosta.cat/actualitat/noticies/el-viejas-glorias-aconsegueix-un-empat-3-3-al-camp-de-laguilas-de-montcada.html
CLASS:PUBLIC
END:VEVENT
END:VCALENDAR
