BEGIN:VCALENDAR
VERSION:2.0
CALSCALE:GREGORIAN
PRODID:-//Diputació de Barcelona//DibaCMS//EN
BEGIN:VEVENT
UID:5966
DTSTAMP:20260422T122739
DTSTART:20130409T000000
DTEND:20140409T000000
SUMMARY:Veus de Dona organitza aquesta setmana un taller de pilates a Can Pelegrí
LOCATION:
METHOD:PUBLISH
X-WR-CALNAME:llagosta@llagosta.cat
X-WR-TIMEZONE:Europe/Madrid
DESCRIPTION:L'entitat Veus de Dona organitza aquesta setmana un taller de pilates. Les sessions es faran demà, de dos quarts d'onze a dos quarts de dotze del matí, i divendres, de dos quarts de quatre a cinc de la tarda.
URI:https://www.llagosta.cat/actualitat/noticies/veus-de-dona-organitza-aquesta-setmana-un-taller-de-pilates-a-can-pelegri.html
CLASS:PUBLIC
END:VEVENT
END:VCALENDAR
