BEGIN:VCALENDAR
VERSION:2.0
CALSCALE:GREGORIAN
PRODID:-//Diputació de Barcelona//DibaCMS//EN
BEGIN:VEVENT
UID:5965
DTSTAMP:20260422T215744
DTSTART:20130409T000000
DTEND:20140409T000000
SUMMARY:Mans Unides del Vallès Oriental porta a terme aquest any un projecte a l'Índia
LOCATION:
METHOD:PUBLISH
X-WR-CALNAME:llagosta@llagosta.cat
X-WR-TIMEZONE:Europe/Madrid
DESCRIPTION:El desenvolupament integral de més de 1.000 dones, amb una afectació indirecta a 220.000 persones, és el projecte que Mans Unides al Vallès Oriental portarà aquest any a l'Índia. El programa, pressupostat en prop de 62.000 euros, pretén donar formació en diversos temes per millorar les seves condicions de vida.
URI:https://www.llagosta.cat/actualitat/noticies/mans-unides-del-valles-oriental-porta-a-terme-aquest-any-un-projecte-a-lindia.html
CLASS:PUBLIC
END:VEVENT
END:VCALENDAR
