BEGIN:VCALENDAR
VERSION:2.0
CALSCALE:GREGORIAN
PRODID:-//Diputació de Barcelona//DibaCMS//EN
BEGIN:VEVENT
UID:5964
DTSTAMP:20260422T141857
DTSTART:20130408T000000
DTEND:20140408T000000
SUMMARY:Demà, acte de presentació de la segona fase del projecte Suem la samarreta
LOCATION:
METHOD:PUBLISH
X-WR-CALNAME:llagosta@llagosta.cat
X-WR-TIMEZONE:Europe/Madrid
DESCRIPTION:El Centre Cultural de la plaça de l'Alcalde Sisó Pons acollirà demà la presentació del projecte de creació d'empreses i de generació d'activitats econòmiques Suem la samarreta. L'acte començarà a les deu del matí. 
URI:https://www.llagosta.cat/actualitat/noticies/dema-acte-de-presentacio-de-la-segona-fase-del-projecte-suem-la-samarreta.html
CLASS:PUBLIC
END:VEVENT
END:VCALENDAR
