BEGIN:VCALENDAR
VERSION:2.0
CALSCALE:GREGORIAN
PRODID:-//Diputació de Barcelona//DibaCMS//EN
BEGIN:VEVENT
UID:5963
DTSTAMP:20260422T094446
DTSTART:20130408T000000
DTEND:20140408T000000
SUMMARY:El FS Unión Llagostense perd (4-3) de forma injusta a la pista del Sant Julià de Ramis
LOCATION:
METHOD:PUBLISH
X-WR-CALNAME:llagosta@llagosta.cat
X-WR-TIMEZONE:Europe/Madrid
DESCRIPTION:El primer equip del Fútbol Sala Unión Llagostense va perdre dissabte per 4 a 3 a la pista del Sant Julià de Ramis. Els de la nostra localitat van fer mèrits per emportar-se la victòria, però es van veure perjudicats per les decisions arbitrals.
URI:https://www.llagosta.cat/actualitat/noticies/el-fs-union-llagostense-perd-4-3-de-forma-injusta-a-la-pista-del-sant-julia-de-ramis.html
CLASS:PUBLIC
END:VEVENT
END:VCALENDAR
